BEGIN:VCALENDAR
VERSION:2.0
PRODID:-//Corning Motorsports - ECPv6.15.13.1//NONSGML v1.0//EN
CALSCALE:GREGORIAN
METHOD:PUBLISH
X-WR-CALNAME:Corning Motorsports
X-ORIGINAL-URL:https://corningmotorsports.com
X-WR-CALDESC:Events for Corning Motorsports
REFRESH-INTERVAL;VALUE=DURATION:PT1H
X-Robots-Tag:noindex
X-PUBLISHED-TTL:PT1H
BEGIN:VTIMEZONE
TZID:America/Denver
BEGIN:DAYLIGHT
TZOFFSETFROM:-0700
TZOFFSETTO:-0600
TZNAME:MDT
DTSTART:20220313T090000
END:DAYLIGHT
BEGIN:STANDARD
TZOFFSETFROM:-0600
TZOFFSETTO:-0700
TZNAME:MST
DTSTART:20221106T080000
END:STANDARD
BEGIN:DAYLIGHT
TZOFFSETFROM:-0700
TZOFFSETTO:-0600
TZNAME:MDT
DTSTART:20230312T090000
END:DAYLIGHT
BEGIN:STANDARD
TZOFFSETFROM:-0600
TZOFFSETTO:-0700
TZNAME:MST
DTSTART:20231105T080000
END:STANDARD
BEGIN:DAYLIGHT
TZOFFSETFROM:-0700
TZOFFSETTO:-0600
TZNAME:MDT
DTSTART:20240310T090000
END:DAYLIGHT
BEGIN:STANDARD
TZOFFSETFROM:-0600
TZOFFSETTO:-0700
TZNAME:MST
DTSTART:20241103T080000
END:STANDARD
BEGIN:DAYLIGHT
TZOFFSETFROM:-0700
TZOFFSETTO:-0600
TZNAME:MDT
DTSTART:20250309T090000
END:DAYLIGHT
BEGIN:STANDARD
TZOFFSETFROM:-0600
TZOFFSETTO:-0700
TZNAME:MST
DTSTART:20251102T080000
END:STANDARD
END:VTIMEZONE
BEGIN:VTIMEZONE
TZID:America/Los_Angeles
BEGIN:DAYLIGHT
TZOFFSETFROM:-0800
TZOFFSETTO:-0700
TZNAME:PDT
DTSTART:20220313T100000
END:DAYLIGHT
BEGIN:STANDARD
TZOFFSETFROM:-0700
TZOFFSETTO:-0800
TZNAME:PST
DTSTART:20221106T090000
END:STANDARD
BEGIN:DAYLIGHT
TZOFFSETFROM:-0800
TZOFFSETTO:-0700
TZNAME:PDT
DTSTART:20230312T100000
END:DAYLIGHT
BEGIN:STANDARD
TZOFFSETFROM:-0700
TZOFFSETTO:-0800
TZNAME:PST
DTSTART:20231105T090000
END:STANDARD
BEGIN:DAYLIGHT
TZOFFSETFROM:-0800
TZOFFSETTO:-0700
TZNAME:PDT
DTSTART:20240310T100000
END:DAYLIGHT
BEGIN:STANDARD
TZOFFSETFROM:-0700
TZOFFSETTO:-0800
TZNAME:PST
DTSTART:20241103T090000
END:STANDARD
END:VTIMEZONE
BEGIN:VEVENT
DTSTART;TZID=America/Denver:20240113T080000
DTEND;TZID=America/Denver:20240113T170000
DTSTAMP:20260425T080824
CREATED:20230510T172621Z
LAST-MODIFIED:20240107T183215Z
UID:10001225-1705132800-1705165200@corningmotorsports.com
SUMMARY:2024 Playa Azul Seypet Resorts IMCA.tv Winter Nationals
DESCRIPTION:Save the Dates!
URL:https://corningmotorsports.com/event/2024-playa-azul-seypet-resorts-imca-tv-winter-nationals/2024-01-13/
LOCATION:Cocopah Speedway\, 3450 W County 15th St\, Somerton\, AZ\, 85350\, United States
CATEGORIES:Imca.tv Winter Nationals,Special Event
ATTACH;FMTTYPE=image/jpeg:https://corningmotorsports.com/wp-content/uploads/2023/05/winter-nationals-logo.jpg
END:VEVENT
BEGIN:VEVENT
DTSTART;TZID=America/Denver:20240112T080000
DTEND;TZID=America/Denver:20240112T170000
DTSTAMP:20260425T080825
CREATED:20230510T172621Z
LAST-MODIFIED:20240107T183215Z
UID:10001224-1705046400-1705078800@corningmotorsports.com
SUMMARY:2024 Playa Azul Seypet Resorts IMCA.tv Winter Nationals
DESCRIPTION:Save the Dates!
URL:https://corningmotorsports.com/event/2024-playa-azul-seypet-resorts-imca-tv-winter-nationals/2024-01-12/
LOCATION:Cocopah Speedway\, 3450 W County 15th St\, Somerton\, AZ\, 85350\, United States
CATEGORIES:Imca.tv Winter Nationals,Special Event
ATTACH;FMTTYPE=image/jpeg:https://corningmotorsports.com/wp-content/uploads/2023/05/winter-nationals-logo.jpg
END:VEVENT
BEGIN:VEVENT
DTSTART;TZID=America/Denver:20240111T080000
DTEND;TZID=America/Denver:20240111T170000
DTSTAMP:20260425T080825
CREATED:20230510T172621Z
LAST-MODIFIED:20240107T183215Z
UID:10001223-1704960000-1704992400@corningmotorsports.com
SUMMARY:2024 Playa Azul Seypet Resorts IMCA.tv Winter Nationals
DESCRIPTION:Save the Dates!
URL:https://corningmotorsports.com/event/2024-playa-azul-seypet-resorts-imca-tv-winter-nationals/2024-01-11/
LOCATION:Cocopah Speedway\, 3450 W County 15th St\, Somerton\, AZ\, 85350\, United States
CATEGORIES:Imca.tv Winter Nationals,Special Event
ATTACH;FMTTYPE=image/jpeg:https://corningmotorsports.com/wp-content/uploads/2023/05/winter-nationals-logo.jpg
END:VEVENT
BEGIN:VEVENT
DTSTART;TZID=America/Denver:20240110T080000
DTEND;TZID=America/Denver:20240110T170000
DTSTAMP:20260425T080825
CREATED:20230510T172621Z
LAST-MODIFIED:20240107T183215Z
UID:10001222-1704873600-1704906000@corningmotorsports.com
SUMMARY:2024 Playa Azul Seypet Resorts IMCA.tv Winter Nationals
DESCRIPTION:Save the Dates!
URL:https://corningmotorsports.com/event/2024-playa-azul-seypet-resorts-imca-tv-winter-nationals/2024-01-10/
LOCATION:Cocopah Speedway\, 3450 W County 15th St\, Somerton\, AZ\, 85350\, United States
CATEGORIES:Imca.tv Winter Nationals,Special Event
ATTACH;FMTTYPE=image/jpeg:https://corningmotorsports.com/wp-content/uploads/2023/05/winter-nationals-logo.jpg
END:VEVENT
BEGIN:VEVENT
DTSTART;TZID=America/Denver:20240106T080000
DTEND;TZID=America/Denver:20240106T170000
DTSTAMP:20260425T080825
CREATED:20230510T172621Z
LAST-MODIFIED:20240107T183215Z
UID:10001221-1704528000-1704560400@corningmotorsports.com
SUMMARY:2024 Playa Azul Seypet Resorts IMCA.tv Winter Nationals
DESCRIPTION:Save the Dates!
URL:https://corningmotorsports.com/event/2024-playa-azul-seypet-resorts-imca-tv-winter-nationals/2024-01-06/
LOCATION:Cocopah Speedway\, 3450 W County 15th St\, Somerton\, AZ\, 85350\, United States
CATEGORIES:Imca.tv Winter Nationals,Special Event
ATTACH;FMTTYPE=image/jpeg:https://corningmotorsports.com/wp-content/uploads/2023/05/winter-nationals-logo.jpg
END:VEVENT
BEGIN:VEVENT
DTSTART;TZID=America/Denver:20240105T080000
DTEND;TZID=America/Denver:20240105T170000
DTSTAMP:20260425T080825
CREATED:20230510T172621Z
LAST-MODIFIED:20240107T183215Z
UID:10001220-1704441600-1704474000@corningmotorsports.com
SUMMARY:2024 Playa Azul Seypet Resorts IMCA.tv Winter Nationals
DESCRIPTION:Save the Dates!
URL:https://corningmotorsports.com/event/2024-playa-azul-seypet-resorts-imca-tv-winter-nationals/2024-01-05/
LOCATION:Cocopah Speedway\, 3450 W County 15th St\, Somerton\, AZ\, 85350\, United States
CATEGORIES:Imca.tv Winter Nationals,Special Event
ATTACH;FMTTYPE=image/jpeg:https://corningmotorsports.com/wp-content/uploads/2023/05/winter-nationals-logo.jpg
END:VEVENT
BEGIN:VEVENT
DTSTART;TZID=America/Denver:20240104T080000
DTEND;TZID=America/Denver:20240104T170000
DTSTAMP:20260425T080825
CREATED:20230510T172621Z
LAST-MODIFIED:20240107T183215Z
UID:10001219-1704355200-1704387600@corningmotorsports.com
SUMMARY:2024 Playa Azul Seypet Resorts IMCA.tv Winter Nationals
DESCRIPTION:Save the Dates!
URL:https://corningmotorsports.com/event/2024-playa-azul-seypet-resorts-imca-tv-winter-nationals/2024-01-04/
LOCATION:Cocopah Speedway\, 3450 W County 15th St\, Somerton\, AZ\, 85350\, United States
CATEGORIES:Imca.tv Winter Nationals,Special Event
ATTACH;FMTTYPE=image/jpeg:https://corningmotorsports.com/wp-content/uploads/2023/05/winter-nationals-logo.jpg
END:VEVENT
BEGIN:VEVENT
DTSTART;TZID=America/Denver:20240103T080000
DTEND;TZID=America/Denver:20240103T170000
DTSTAMP:20260425T080825
CREATED:20230510T172621Z
LAST-MODIFIED:20240107T183215Z
UID:10001218-1704268800-1704301200@corningmotorsports.com
SUMMARY:2024 Playa Azul Seypet Resorts IMCA.tv Winter Nationals
DESCRIPTION:Save the Dates!
URL:https://corningmotorsports.com/event/2024-playa-azul-seypet-resorts-imca-tv-winter-nationals/2024-01-03/
LOCATION:Cocopah Speedway\, 3450 W County 15th St\, Somerton\, AZ\, 85350\, United States
CATEGORIES:Imca.tv Winter Nationals,Special Event
ATTACH;FMTTYPE=image/jpeg:https://corningmotorsports.com/wp-content/uploads/2023/05/winter-nationals-logo.jpg
END:VEVENT
BEGIN:VEVENT
DTSTART;TZID=America/Denver:20240102T080000
DTEND;TZID=America/Denver:20240102T170000
DTSTAMP:20260425T080825
CREATED:20230510T172621Z
LAST-MODIFIED:20240107T183215Z
UID:10001217-1704182400-1704214800@corningmotorsports.com
SUMMARY:2024 Playa Azul Seypet Resorts IMCA.tv Winter Nationals
DESCRIPTION:Save the Dates!
URL:https://corningmotorsports.com/event/2024-playa-azul-seypet-resorts-imca-tv-winter-nationals/2024-01-02/
LOCATION:Cocopah Speedway\, 3450 W County 15th St\, Somerton\, AZ\, 85350\, United States
CATEGORIES:Imca.tv Winter Nationals,Special Event
ATTACH;FMTTYPE=image/jpeg:https://corningmotorsports.com/wp-content/uploads/2023/05/winter-nationals-logo.jpg
END:VEVENT
BEGIN:VEVENT
DTSTART;TZID=America/Denver:20231125T180000
DTEND;TZID=America/Denver:20231125T230000
DTSTAMP:20260425T080825
CREATED:20221211T224652Z
LAST-MODIFIED:20221211T224653Z
UID:10001076-1700935200-1700953200@corningmotorsports.com
SUMMARY:Turkey Classic Harvest Hustle
DESCRIPTION:MODIFIEDS\, SPORT MODS\, STOCK CARS\, HOBBY STOCKS\,PURE STOCKS\, DWARFS\, MINI DWARFS \n\n\n\nWatch live on IMCA.TV
URL:https://corningmotorsports.com/event/turkey-classic-harvest-hustle/2023-11-25/
LOCATION:Cocopah Speedway\, 3450 W County 15th St\, Somerton\, AZ\, 85350\, United States
CATEGORIES:Special Event
ATTACH;FMTTYPE=image/jpeg:https://corningmotorsports.com/wp-content/uploads/2022/12/cocopahspeedway2023.jpg
END:VEVENT
BEGIN:VEVENT
DTSTART;TZID=America/Denver:20231124T180000
DTEND;TZID=America/Denver:20231124T230000
DTSTAMP:20260425T080825
CREATED:20221211T224652Z
LAST-MODIFIED:20221211T224653Z
UID:10001075-1700848800-1700866800@corningmotorsports.com
SUMMARY:Turkey Classic Harvest Hustle
DESCRIPTION:MODIFIEDS\, SPORT MODS\, STOCK CARS\, HOBBY STOCKS\,PURE STOCKS\, DWARFS\, MINI DWARFS \n\n\n\nWatch live on IMCA.TV
URL:https://corningmotorsports.com/event/turkey-classic-harvest-hustle/2023-11-24/
LOCATION:Cocopah Speedway\, 3450 W County 15th St\, Somerton\, AZ\, 85350\, United States
CATEGORIES:Special Event
ATTACH;FMTTYPE=image/jpeg:https://corningmotorsports.com/wp-content/uploads/2022/12/cocopahspeedway2023.jpg
END:VEVENT
BEGIN:VEVENT
DTSTART;TZID=America/Denver:20231118T140000
DTEND;TZID=America/Denver:20231118T230000
DTSTAMP:20260425T080825
CREATED:20221213T173459Z
LAST-MODIFIED:20221213T173501Z
UID:10001119-1700316000-1700348400@corningmotorsports.com
SUMMARY:THE SHOWDOWN AT CAR
DESCRIPTION:MODIFIEDS\, SPORT MODS\, STOCK CARS\, HOBBY STOCKS \n\n\n\nWatch live on IMCA.TV
URL:https://corningmotorsports.com/event/the-showdown-at-car/2023-11-18/
LOCATION:Central Arizona Raceway – CAR\, 512 N Eleven Mile Corner Road\, Casa Grande\, AZ\, 85194\, United States
CATEGORIES:Regular Schedule,Special Event
ATTACH;FMTTYPE=image/jpeg:https://corningmotorsports.com/wp-content/uploads/2021/02/central-arizona-speedway.jpg
END:VEVENT
BEGIN:VEVENT
DTSTART;TZID=America/Denver:20231117T170000
DTEND;TZID=America/Denver:20231117T230000
DTSTAMP:20260425T080825
CREATED:20221213T173459Z
LAST-MODIFIED:20221213T173501Z
UID:10001118-1700240400-1700262000@corningmotorsports.com
SUMMARY:THE SHOWDOWN AT CAR
DESCRIPTION:MODIFIEDS\, SPORT MODS\, STOCK CARS\, HOBBY STOCKS \n\n\n\nWatch live on IMCA.TV
URL:https://corningmotorsports.com/event/the-showdown-at-car/2023-11-17/
LOCATION:Central Arizona Raceway – CAR\, 512 N Eleven Mile Corner Road\, Casa Grande\, AZ\, 85194\, United States
CATEGORIES:Regular Schedule,Special Event
ATTACH;FMTTYPE=image/jpeg:https://corningmotorsports.com/wp-content/uploads/2021/02/central-arizona-speedway.jpg
END:VEVENT
BEGIN:VEVENT
DTSTART;TZID=America/Denver:20231116T170000
DTEND;TZID=America/Denver:20231116T230000
DTSTAMP:20260425T080825
CREATED:20221213T173459Z
LAST-MODIFIED:20221213T173501Z
UID:10001117-1700154000-1700175600@corningmotorsports.com
SUMMARY:THE SHOWDOWN AT CAR
DESCRIPTION:MODIFIEDS\, SPORT MODS\, STOCK CARS\, HOBBY STOCKS \n\n\n\nWatch live on IMCA.TV
URL:https://corningmotorsports.com/event/the-showdown-at-car/2023-11-16/
LOCATION:Central Arizona Raceway – CAR\, 512 N Eleven Mile Corner Road\, Casa Grande\, AZ\, 85194\, United States
CATEGORIES:Regular Schedule,Special Event
ATTACH;FMTTYPE=image/jpeg:https://corningmotorsports.com/wp-content/uploads/2021/02/central-arizona-speedway.jpg
END:VEVENT
BEGIN:VEVENT
DTSTART;TZID=America/Denver:20231111T180000
DTEND;TZID=America/Denver:20231111T233000
DTSTAMP:20260425T080825
CREATED:20221213T172949Z
LAST-MODIFIED:20221213T172951Z
UID:10001114-1699725600-1699745400@corningmotorsports.com
SUMMARY:Keith Bryan 3rd Annual Memorial @ CAR
DESCRIPTION:ASCS WING SPRINT CARS\, ASCS NON-WING SPRINT CARS\, CHALLENGE CUP SPRINT CARS
URL:https://corningmotorsports.com/event/keith-bryan-3rd-annual-memorial-car/2023-11-11/
LOCATION:Central Arizona Raceway – CAR\, 512 N Eleven Mile Corner Road\, Casa Grande\, AZ\, 85194\, United States
CATEGORIES:Regular Schedule,Special Event
ATTACH;FMTTYPE=image/jpeg:https://corningmotorsports.com/wp-content/uploads/2021/02/central-arizona-speedway.jpg
END:VEVENT
BEGIN:VEVENT
DTSTART;TZID=America/Los_Angeles:20231111T170000
DTEND;TZID=America/Los_Angeles:20231111T230000
DTSTAMP:20260425T080825
CREATED:20221219T171728Z
LAST-MODIFIED:20221219T171731Z
UID:10001178-1699722000-1699743600@corningmotorsports.com
SUMMARY:SPRINT CARS @ PAS
DESCRIPTION:AMSOIL USAC/CRA SPRINT CARS (40 LAPS)\, PAS SENIOR/YOUNG GUNS SPRINT SPRINT CARS AND SOUTHWEST LIGHTNING SPRINT CARS
URL:https://corningmotorsports.com/event/sokola-shootout-sprint-cars-pas-8/
LOCATION:Perris Auto Speedway\, 18700 Lake Perris Dr\, Perris\, CA\, 92571\, United States
CATEGORIES:Regular Schedule,Special Event
ATTACH;FMTTYPE=image/png:https://corningmotorsports.com/wp-content/uploads/2021/05/perris-auto-logo.png
END:VEVENT
BEGIN:VEVENT
DTSTART;TZID=America/Denver:20231110T180000
DTEND;TZID=America/Denver:20231110T233000
DTSTAMP:20260425T080825
CREATED:20221213T172949Z
LAST-MODIFIED:20221213T172951Z
UID:10001113-1699639200-1699659000@corningmotorsports.com
SUMMARY:Keith Bryan 3rd Annual Memorial @ CAR
DESCRIPTION:ASCS WING SPRINT CARS\, ASCS NON-WING SPRINT CARS\, CHALLENGE CUP SPRINT CARS
URL:https://corningmotorsports.com/event/keith-bryan-3rd-annual-memorial-car/2023-11-10/
LOCATION:Central Arizona Raceway – CAR\, 512 N Eleven Mile Corner Road\, Casa Grande\, AZ\, 85194\, United States
CATEGORIES:Regular Schedule,Special Event
ATTACH;FMTTYPE=image/jpeg:https://corningmotorsports.com/wp-content/uploads/2021/02/central-arizona-speedway.jpg
END:VEVENT
BEGIN:VEVENT
DTSTART;TZID=America/Denver:20231104T180000
DTEND;TZID=America/Denver:20231104T230000
DTSTAMP:20260425T080825
CREATED:20221213T172655Z
LAST-MODIFIED:20221213T172658Z
UID:10001112-1699120800-1699138800@corningmotorsports.com
SUMMARY:WESTERN WORLD CHAMPIONSHIPS
DESCRIPTION:USAC CAR 410 NON WING SPRINT CARS\, ASCS NON-WING SPRINT CARS\, CHALLENGE CUP SPRINT CARS \n\n\n\nWatch on SpeedSportTV
URL:https://corningmotorsports.com/event/western-world-championships-2/2023-11-04/
LOCATION:Central Arizona Raceway – CAR\, 512 N Eleven Mile Corner Road\, Casa Grande\, AZ\, 85194\, United States
CATEGORIES:Regular Schedule,Special Event,Western World Championships
ATTACH;FMTTYPE=image/jpeg:https://corningmotorsports.com/wp-content/uploads/2021/02/central-arizona-speedway.jpg
END:VEVENT
BEGIN:VEVENT
DTSTART;TZID=America/Denver:20231103T180000
DTEND;TZID=America/Denver:20231103T230000
DTSTAMP:20260425T080825
CREATED:20221213T172655Z
LAST-MODIFIED:20221213T172658Z
UID:10001111-1699034400-1699052400@corningmotorsports.com
SUMMARY:WESTERN WORLD CHAMPIONSHIPS
DESCRIPTION:USAC CAR 410 NON WING SPRINT CARS\, ASCS NON-WING SPRINT CARS\, CHALLENGE CUP SPRINT CARS \n\n\n\nWatch on SpeedSportTV
URL:https://corningmotorsports.com/event/western-world-championships-2/2023-11-03/
LOCATION:Central Arizona Raceway – CAR\, 512 N Eleven Mile Corner Road\, Casa Grande\, AZ\, 85194\, United States
CATEGORIES:Regular Schedule,Special Event,Western World Championships
ATTACH;FMTTYPE=image/jpeg:https://corningmotorsports.com/wp-content/uploads/2021/02/central-arizona-speedway.jpg
END:VEVENT
BEGIN:VEVENT
DTSTART;TZID=America/Denver:20231028T180000
DTEND;TZID=America/Denver:20231028T230000
DTSTAMP:20260425T080825
CREATED:20221211T224248Z
LAST-MODIFIED:20221211T224250Z
UID:10001071-1698516000-1698534000@corningmotorsports.com
SUMMARY:Gordie Rivera Memorial
DESCRIPTION:MODIFIEDS\, SPORT MODS\, STOCK CARS\, HOBBY STOCKS\, MOD LITES\, SPORT COMPACTS\, MINI DWARFS \n\n\n\nWatch live on IMCA.TV
URL:https://corningmotorsports.com/event/gordie-rivera-memorial/
LOCATION:Cocopah Speedway\, 3450 W County 15th St\, Somerton\, AZ\, 85350\, United States
CATEGORIES:Special Event
ATTACH;FMTTYPE=image/jpeg:https://corningmotorsports.com/wp-content/uploads/2022/12/cocopahspeedway2023.jpg
END:VEVENT
BEGIN:VEVENT
DTSTART;TZID=America/Los_Angeles:20231028T170000
DTEND;TZID=America/Los_Angeles:20231028T230000
DTSTAMP:20260425T080825
CREATED:20230117T202023Z
LAST-MODIFIED:20230117T202025Z
UID:10001196-1698512400-1698534000@corningmotorsports.com
SUMMARY:TRUNK OR TREAT CHAMPIONSHIP NIGHT @ BARONA
DESCRIPTION:TOPLESS MODS\, TOPLESS SPORT MODS\, STOCK CARS/STREET STOCKS\, SPORT COMPACTS\, DWARFS\, PURE STOCKS\, MINI DWARFS/JUNIOR SPRINTS
URL:https://corningmotorsports.com/event/trunk-or-treat-championship-night-barona/
LOCATION:Barona Speedway\, 1754 Wildcat Canyon Rd\, Lakeside\, CA\, 92040\, United States
CATEGORIES:Regular Schedule,Special Event
ATTACH;FMTTYPE=image/jpeg:https://corningmotorsports.com/wp-content/uploads/2022/03/barona-scaled.jpg
END:VEVENT
BEGIN:VEVENT
DTSTART;TZID=America/Los_Angeles:20231021T170000
DTEND;TZID=America/Los_Angeles:20231021T233000
DTSTAMP:20260425T080825
CREATED:20221219T171637Z
LAST-MODIFIED:20221219T171640Z
UID:10001163-1697907600-1697931000@corningmotorsports.com
SUMMARY:NIGHT OF DESTRUCTION VIII
DESCRIPTION:DEMO CROSS\, FIGURE 8’S\, MINI STOCK FIGURE 8’S\, MINI STOCKS AND INSANE DOUBLE DECKERS
URL:https://corningmotorsports.com/event/night-of-destruction-8/
LOCATION:Perris Auto Speedway\, 18700 Lake Perris Dr\, Perris\, CA\, 92571\, United States
CATEGORIES:Night of Destruction,Special Event
ATTACH;FMTTYPE=image/png:https://corningmotorsports.com/wp-content/uploads/2021/05/perris-auto-logo.png
END:VEVENT
BEGIN:VEVENT
DTSTART;TZID=America/Denver:20230923T190000
DTEND;TZID=America/Denver:20230923T230000
DTSTAMP:20260425T080825
CREATED:20221211T223954Z
LAST-MODIFIED:20221211T223957Z
UID:10001069-1695495600-1695510000@corningmotorsports.com
SUMMARY:Deacon Dick Memorial
DESCRIPTION:MODIFIEDS\, SPORT MODS\,STOCK CARS\, HOBBY STOCKS\, MOD LITES\, SPORT COMPACTS\, MINI DWARFS \n\n\n\nWatch live on IMCA.TV
URL:https://corningmotorsports.com/event/deacon-dick-memorial/
LOCATION:Cocopah Speedway\, 3450 W County 15th St\, Somerton\, AZ\, 85350\, United States
CATEGORIES:Special Event
ATTACH;FMTTYPE=image/jpeg:https://corningmotorsports.com/wp-content/uploads/2022/12/cocopahspeedway2023.jpg
END:VEVENT
BEGIN:VEVENT
DTSTART;TZID=America/Los_Angeles:20230923T170000
DTEND;TZID=America/Los_Angeles:20230923T230000
DTSTAMP:20260425T080825
CREATED:20221219T171551Z
LAST-MODIFIED:20221219T171553Z
UID:10001177-1695488400-1695510000@corningmotorsports.com
SUMMARY:"GLENN HOWARD CLASSIC" @ PAS
DESCRIPTION:AMSOIL USAC/CRA SPRINT CARS PAS SENIOR/YOUNG GUNS SPRINT CARS\, PASSCAR SUPER STOCKS
URL:https://corningmotorsports.com/event/sokola-shootout-sprint-cars-pas-7/
LOCATION:Perris Auto Speedway\, 18700 Lake Perris Dr\, Perris\, CA\, 92571\, United States
CATEGORIES:Regular Schedule,Special Event
ATTACH;FMTTYPE=image/png:https://corningmotorsports.com/wp-content/uploads/2021/05/perris-auto-logo.png
END:VEVENT
BEGIN:VEVENT
DTSTART;TZID=America/Los_Angeles:20230916T170000
DTEND;TZID=America/Los_Angeles:20230916T233000
DTSTAMP:20260425T080825
CREATED:20221219T171505Z
LAST-MODIFIED:20221219T171508Z
UID:10001162-1694883600-1694907000@corningmotorsports.com
SUMMARY:NIGHT OF DESTRUCTION VII
DESCRIPTION:DEMO CROSS\, FIGURE 8’S\, MINI STOCK FIGURE 8’S\, MINI STOCKS AND INSANE DOUBLE DECKERS
URL:https://corningmotorsports.com/event/night-of-destruction-7/
LOCATION:Perris Auto Speedway\, 18700 Lake Perris Dr\, Perris\, CA\, 92571\, United States
CATEGORIES:Night of Destruction,Special Event
ATTACH;FMTTYPE=image/png:https://corningmotorsports.com/wp-content/uploads/2021/05/perris-auto-logo.png
END:VEVENT
BEGIN:VEVENT
DTSTART;TZID=America/Los_Angeles:20230819T170000
DTEND;TZID=America/Los_Angeles:20230819T230000
DTSTAMP:20260425T080825
CREATED:20221219T171433Z
LAST-MODIFIED:20221219T171436Z
UID:10001176-1692464400-1692486000@corningmotorsports.com
SUMMARY:SPRINT CARS @ PAS
DESCRIPTION:AMSOIL USAC/CRA SPRINT CARS\, PAS SENIOR/YOUNG GUNS SPRINT CARS\, SOUTHWEST LIGHTNING SPRINTS AND WRA VINTAGE CARS ON DISPLAY PLUS “POWER OF PURPLE NIGHT” BENEFITING THE AMERICAN CANCER SOCIETY RELAY FOR LIFE RIVERSIDE COUNTY EAST
URL:https://corningmotorsports.com/event/sokola-shootout-sprint-cars-pas-6/
LOCATION:Perris Auto Speedway\, 18700 Lake Perris Dr\, Perris\, CA\, 92571\, United States
CATEGORIES:Regular Schedule,Special Event
ATTACH;FMTTYPE=image/png:https://corningmotorsports.com/wp-content/uploads/2021/05/perris-auto-logo.png
END:VEVENT
BEGIN:VEVENT
DTSTART;TZID=America/Los_Angeles:20230805T170000
DTEND;TZID=America/Los_Angeles:20230805T233000
DTSTAMP:20260425T080825
CREATED:20221219T171354Z
LAST-MODIFIED:20221219T171356Z
UID:10001161-1691254800-1691278200@corningmotorsports.com
SUMMARY:NIGHT OF DESTRUCTION VI
DESCRIPTION:DEMO CROSS\, FIGURE 8’S\, MINI STOCK FIGURE 8’S\, MINI STOCKS AND INSANE DOUBLE DECKERS
URL:https://corningmotorsports.com/event/night-of-destruction-6/
LOCATION:Perris Auto Speedway\, 18700 Lake Perris Dr\, Perris\, CA\, 92571\, United States
CATEGORIES:Night of Destruction,Special Event
ATTACH;FMTTYPE=image/png:https://corningmotorsports.com/wp-content/uploads/2021/05/perris-auto-logo.png
END:VEVENT
BEGIN:VEVENT
DTSTART;TZID=America/Los_Angeles:20230715T170000
DTEND;TZID=America/Los_Angeles:20230715T230000
DTSTAMP:20260425T080825
CREATED:20221219T171312Z
LAST-MODIFIED:20221219T171314Z
UID:10001175-1689440400-1689462000@corningmotorsports.com
SUMMARY:SPRINT CARS @ PAS
DESCRIPTION:AMSOIL USAC/CRA SPRINT CARS\, PAS SENIOR/YOUNG GUNS SPRINT CARS AND PASSCAR FACTORY STOCKS PLUS “POWER OF PURPLE NIGHT” BENEFITING THE AMERICAN CANCER SOCIETY RELAY FOR LIFE RIVERSIDE COUNTY EAST
URL:https://corningmotorsports.com/event/sokola-shootout-sprint-cars-pas-5/
LOCATION:Perris Auto Speedway\, 18700 Lake Perris Dr\, Perris\, CA\, 92571\, United States
CATEGORIES:Regular Schedule,Special Event
ATTACH;FMTTYPE=image/png:https://corningmotorsports.com/wp-content/uploads/2021/05/perris-auto-logo.png
END:VEVENT
BEGIN:VEVENT
DTSTART;TZID=America/Denver:20230702T190000
DTEND;TZID=America/Denver:20230702T230000
DTSTAMP:20260425T080825
CREATED:20230317T174802Z
LAST-MODIFIED:20230317T174805Z
UID:10001205-1688324400-1688338800@corningmotorsports.com
SUMMARY:IMCA'S FOUR CORNER CLASH @ DOCT RACEWAY
DESCRIPTION:IMCA MODIFIEDS\, IMCA NORTHERN SPORT MODS\, IMCA STOCK CARS\, IMCA HOBBY STOCKS\, IMCA SPORT COMPACTS
URL:https://corningmotorsports.com/event/imcas-four-corner-clash-doct-raceway/2023-07-02/
LOCATION:Deuce of Clubs Thunder Raceway\, 4701 E Deuce of Clubs\, Show Low\, AZ\, 85901\, United States
CATEGORIES:Special Event
ATTACH;FMTTYPE=image/jpeg:https://corningmotorsports.com/wp-content/uploads/2023/03/deuce-of-Clubs.jpg
END:VEVENT
BEGIN:VEVENT
DTSTART;TZID=America/Denver:20230701T190000
DTEND;TZID=America/Denver:20230701T230000
DTSTAMP:20260425T080825
CREATED:20230317T174802Z
LAST-MODIFIED:20230317T174805Z
UID:10001204-1688238000-1688252400@corningmotorsports.com
SUMMARY:IMCA'S FOUR CORNER CLASH @ DOCT RACEWAY
DESCRIPTION:IMCA MODIFIEDS\, IMCA NORTHERN SPORT MODS\, IMCA STOCK CARS\, IMCA HOBBY STOCKS\, IMCA SPORT COMPACTS
URL:https://corningmotorsports.com/event/imcas-four-corner-clash-doct-raceway/2023-07-01/
LOCATION:Deuce of Clubs Thunder Raceway\, 4701 E Deuce of Clubs\, Show Low\, AZ\, 85901\, United States
CATEGORIES:Special Event
ATTACH;FMTTYPE=image/jpeg:https://corningmotorsports.com/wp-content/uploads/2023/03/deuce-of-Clubs.jpg
END:VEVENT
END:VCALENDAR