BEGIN:VCALENDAR
VERSION:2.0
PRODID:-//Corning Motorsports - ECPv6.15.13.1//NONSGML v1.0//EN
CALSCALE:GREGORIAN
METHOD:PUBLISH
X-WR-CALNAME:Corning Motorsports
X-ORIGINAL-URL:https://corningmotorsports.com
X-WR-CALDESC:Events for Corning Motorsports
REFRESH-INTERVAL;VALUE=DURATION:PT1H
X-Robots-Tag:noindex
X-PUBLISHED-TTL:PT1H
BEGIN:VTIMEZONE
TZID:America/Los_Angeles
BEGIN:DAYLIGHT
TZOFFSETFROM:-0800
TZOFFSETTO:-0700
TZNAME:PDT
DTSTART:20220313T100000
END:DAYLIGHT
BEGIN:STANDARD
TZOFFSETFROM:-0700
TZOFFSETTO:-0800
TZNAME:PST
DTSTART:20221106T090000
END:STANDARD
BEGIN:DAYLIGHT
TZOFFSETFROM:-0800
TZOFFSETTO:-0700
TZNAME:PDT
DTSTART:20230312T100000
END:DAYLIGHT
BEGIN:STANDARD
TZOFFSETFROM:-0700
TZOFFSETTO:-0800
TZNAME:PST
DTSTART:20231105T090000
END:STANDARD
BEGIN:DAYLIGHT
TZOFFSETFROM:-0800
TZOFFSETTO:-0700
TZNAME:PDT
DTSTART:20240310T100000
END:DAYLIGHT
BEGIN:STANDARD
TZOFFSETFROM:-0700
TZOFFSETTO:-0800
TZNAME:PST
DTSTART:20241103T090000
END:STANDARD
BEGIN:DAYLIGHT
TZOFFSETFROM:-0800
TZOFFSETTO:-0700
TZNAME:PDT
DTSTART:20250309T100000
END:DAYLIGHT
BEGIN:STANDARD
TZOFFSETFROM:-0700
TZOFFSETTO:-0800
TZNAME:PST
DTSTART:20251102T090000
END:STANDARD
END:VTIMEZONE
BEGIN:VEVENT
DTSTART;TZID=America/Los_Angeles:20240525T180000
DTEND;TZID=America/Los_Angeles:20240525T180000
DTSTAMP:20260420T235044
CREATED:20240107T190511Z
LAST-MODIFIED:20240107T190511Z
UID:10001245-1716660000-1716660000@corningmotorsports.com
SUMMARY:Barona Regular Schedule
DESCRIPTION:IMCA Sport Mods\, IMCA Sport Compacts\, SoCal Lightning  Sprints(Non-winged)\, Dwarf Cars\, Pony Stocks\, Pure Stocks\, Mini Dwarfs/Jr Sprints
URL:https://corningmotorsports.com/event/barona-regular-schedule-4/
LOCATION:Barona Speedway\, 1754 Wildcat Canyon Rd\, Lakeside\, CA\, 92040\, United States
END:VEVENT
BEGIN:VEVENT
DTSTART;TZID=America/Los_Angeles:20240511T180000
DTEND;TZID=America/Los_Angeles:20240511T180000
DTSTAMP:20260420T235044
CREATED:20240107T190508Z
LAST-MODIFIED:20240107T190508Z
UID:10001244-1715450400-1715450400@corningmotorsports.com
SUMMARY:Barona Regular Schedule
DESCRIPTION:IMCA Modifieds\, IMCA Stock Cars\, IMCA Sport Compacts\, IMCA Hobby Stocks\, Dwarf Cars\, Pure Stocks\, Mini Dwarf/Jr Sprints
URL:https://corningmotorsports.com/event/barona-regular-schedule-3/
LOCATION:Barona Speedway\, 1754 Wildcat Canyon Rd\, Lakeside\, CA\, 92040\, United States
END:VEVENT
BEGIN:VEVENT
DTSTART;TZID=America/Los_Angeles:20240427T180000
DTEND;TZID=America/Los_Angeles:20240427T180000
DTSTAMP:20260420T235044
CREATED:20240107T190507Z
LAST-MODIFIED:20240107T190507Z
UID:10001243-1714240800-1714240800@corningmotorsports.com
SUMMARY:Barona Regular Schedule
DESCRIPTION:IMCA Modifieds\, IMCA Stock Cars\, IMCA Hobby Stocks\, Dwarf Cars\, Pony Stocks\, Pure Stocks\, Mini Dwarf/Jr Sprints
URL:https://corningmotorsports.com/event/barona-regular-schedule-2/
LOCATION:Barona Speedway\, 1754 Wildcat Canyon Rd\, Lakeside\, CA\, 92040\, United States
END:VEVENT
BEGIN:VEVENT
DTSTART;TZID=America/Los_Angeles:20240413T180000
DTEND;TZID=America/Los_Angeles:20240413T180000
DTSTAMP:20260420T235044
CREATED:20240107T190506Z
LAST-MODIFIED:20240107T190506Z
UID:10001242-1713031200-1713031200@corningmotorsports.com
SUMMARY:Gregg Smith Memorial
DESCRIPTION:IMCA Modifieds\, IMCA Sport Mods\, IMCA Sport Compacts\, Dwarf Cars\, SoCal Lightning Sprints(Winged)\, Pure Stocks\, Mini Dwarfs/Jr Sprints
URL:https://corningmotorsports.com/event/gregg-smith-memorial/
LOCATION:Barona Speedway\, 1754 Wildcat Canyon Rd\, Lakeside\, CA\, 92040\, United States
END:VEVENT
BEGIN:VEVENT
DTSTART;TZID=America/Los_Angeles:20240330T180000
DTEND;TZID=America/Los_Angeles:20240330T180000
DTSTAMP:20260420T235044
CREATED:20240107T190505Z
LAST-MODIFIED:20240107T190505Z
UID:10001241-1711821600-1711821600@corningmotorsports.com
SUMMARY:Barona Regular Schedule
DESCRIPTION:IMCA Modifieds\, IMCA Sport Mods\, IMCA Sport Compacts\, IMCA Stock Cars\, SoCal Lightning Sprints(Winged)\, Pony Stocks\, Pure Stocks\, Mini Dwarfs/Jr Sprints
URL:https://corningmotorsports.com/event/barona-regular-schedule/
LOCATION:Barona Speedway\, 1754 Wildcat Canyon Rd\, Lakeside\, CA\, 92040\, United States
END:VEVENT
BEGIN:VEVENT
DTSTART;TZID=America/Los_Angeles:20240316T180000
DTEND;TZID=America/Los_Angeles:20240316T180000
DTSTAMP:20260420T235044
CREATED:20240107T190504Z
LAST-MODIFIED:20240107T190504Z
UID:10001240-1710612000-1710612000@corningmotorsports.com
SUMMARY:Barona Opening Night
DESCRIPTION:IMCA Modifieds\, IMCA Sport Mods\, IMCA Sport Compacts\, IMCA Stock Cars\, Dwarf Cars\, Pure Stocks\, Mini Dwarfs/Jr Sprints
URL:https://corningmotorsports.com/event/barona-opening-night/
LOCATION:Barona Speedway\, 1754 Wildcat Canyon Rd\, Lakeside\, CA\, 92040\, United States
END:VEVENT
BEGIN:VEVENT
DTSTART;TZID=America/Los_Angeles:20231028T170000
DTEND;TZID=America/Los_Angeles:20231028T230000
DTSTAMP:20260420T235044
CREATED:20230117T202023Z
LAST-MODIFIED:20230117T202025Z
UID:10001196-1698512400-1698534000@corningmotorsports.com
SUMMARY:TRUNK OR TREAT CHAMPIONSHIP NIGHT @ BARONA
DESCRIPTION:TOPLESS MODS\, TOPLESS SPORT MODS\, STOCK CARS/STREET STOCKS\, SPORT COMPACTS\, DWARFS\, PURE STOCKS\, MINI DWARFS/JUNIOR SPRINTS
URL:https://corningmotorsports.com/event/trunk-or-treat-championship-night-barona/
LOCATION:Barona Speedway\, 1754 Wildcat Canyon Rd\, Lakeside\, CA\, 92040\, United States
CATEGORIES:Regular Schedule,Special Event
ATTACH;FMTTYPE=image/jpeg:https://corningmotorsports.com/wp-content/uploads/2022/03/barona-scaled.jpg
END:VEVENT
BEGIN:VEVENT
DTSTART;TZID=America/Los_Angeles:20231014T170000
DTEND;TZID=America/Los_Angeles:20231014T233000
DTSTAMP:20260420T235044
CREATED:20230117T201455Z
LAST-MODIFIED:20230117T201458Z
UID:10001192-1697302800-1697326200@corningmotorsports.com
SUMMARY:Barona Speedway Regular Schedule
DESCRIPTION:MODIFIEDS\, STOCK CARS/STREET STOCKS\, PONY STOCKS\, DWARFS\, PURE STOCKS\, MINI DWARFS/JUNIOR SPRINTS
URL:https://corningmotorsports.com/event/barona-speedway-regular-schedule-12/
LOCATION:Barona Speedway\, 1754 Wildcat Canyon Rd\, Lakeside\, CA\, 92040\, United States
CATEGORIES:Regular Schedule
ATTACH;FMTTYPE=image/jpeg:https://corningmotorsports.com/wp-content/uploads/2022/03/barona-scaled.jpg
END:VEVENT
BEGIN:VEVENT
DTSTART;TZID=America/Los_Angeles:20230930T170000
DTEND;TZID=America/Los_Angeles:20230930T233000
DTSTAMP:20260420T235044
CREATED:20230117T201354Z
LAST-MODIFIED:20230117T201356Z
UID:10001191-1696093200-1696116600@corningmotorsports.com
SUMMARY:Barona Speedway Regular Schedule
DESCRIPTION:SPORT MODS\, SPORT COMPACTS\, PONY STOCKS\, DWARFS\, PURE STOCKS\, MINI DWARFS/JUNIOR SPRINTS
URL:https://corningmotorsports.com/event/barona-speedway-regular-schedule-11/
LOCATION:Barona Speedway\, 1754 Wildcat Canyon Rd\, Lakeside\, CA\, 92040\, United States
CATEGORIES:Regular Schedule
ATTACH;FMTTYPE=image/jpeg:https://corningmotorsports.com/wp-content/uploads/2022/03/barona-scaled.jpg
END:VEVENT
BEGIN:VEVENT
DTSTART;TZID=America/Los_Angeles:20230916T170000
DTEND;TZID=America/Los_Angeles:20230916T233000
DTSTAMP:20260420T235044
CREATED:20230117T201219Z
LAST-MODIFIED:20230117T201221Z
UID:10001190-1694883600-1694907000@corningmotorsports.com
SUMMARY:Barona Speedway Regular Schedule
DESCRIPTION:**LAST IMCA POINTS RACE** \n\n\n\nIMCA MODIFIEDS\, IMCA SPORT MODS\, IMCA STOCK CARS/STREET STOCKS\, IMCA SPORT COMPACTS\, DWARFS\, PURE STOCKS\, MINI DWARFS/JUNIOR SPRINTS
URL:https://corningmotorsports.com/event/barona-speedway-regular-schedule-10/
LOCATION:Barona Speedway\, 1754 Wildcat Canyon Rd\, Lakeside\, CA\, 92040\, United States
CATEGORIES:Regular Schedule
ATTACH;FMTTYPE=image/jpeg:https://corningmotorsports.com/wp-content/uploads/2022/03/barona-scaled.jpg
END:VEVENT
BEGIN:VEVENT
DTSTART;TZID=America/Los_Angeles:20230902T170000
DTEND;TZID=America/Los_Angeles:20230902T233000
DTSTAMP:20260420T235044
CREATED:20230117T200721Z
LAST-MODIFIED:20230117T200724Z
UID:10001189-1693674000-1693697400@corningmotorsports.com
SUMMARY:Barona Speedway Regular Schedule
DESCRIPTION:IMCA SPORT MODS\, IMCA SPORT COMPACTS\, IMCA HOBBY STOCKS\, PONY STOCKS\, DWARFS\, PURE STOCKS\, MINI DWARFS/JUNIOR SPRINTS
URL:https://corningmotorsports.com/event/barona-speedway-regular-schedule-9/
LOCATION:Barona Speedway\, 1754 Wildcat Canyon Rd\, Lakeside\, CA\, 92040\, United States
CATEGORIES:Regular Schedule
ATTACH;FMTTYPE=image/jpeg:https://corningmotorsports.com/wp-content/uploads/2022/03/barona-scaled.jpg
END:VEVENT
BEGIN:VEVENT
DTSTART;TZID=America/Los_Angeles:20230819T170000
DTEND;TZID=America/Los_Angeles:20230819T233000
DTSTAMP:20260420T235044
CREATED:20230117T200528Z
LAST-MODIFIED:20230117T200531Z
UID:10001188-1692464400-1692487800@corningmotorsports.com
SUMMARY:Barona Speedway Regular Schedule
DESCRIPTION:IMCA MODIFIEDS\, IMCA STOCK CARS/STREET STOCKS\, IMCA SPORT COMPACTS\, DWARFS\, PURE STOCKS\, MINI DWARFS/JUNIOR SPRINTS
URL:https://corningmotorsports.com/event/barona-speedway-regular-schedule-8/
LOCATION:Barona Speedway\, 1754 Wildcat Canyon Rd\, Lakeside\, CA\, 92040\, United States
CATEGORIES:Regular Schedule
ATTACH;FMTTYPE=image/jpeg:https://corningmotorsports.com/wp-content/uploads/2022/03/barona-scaled.jpg
END:VEVENT
BEGIN:VEVENT
DTSTART;TZID=America/Los_Angeles:20230805T170000
DTEND;TZID=America/Los_Angeles:20230805T233000
DTSTAMP:20260420T235044
CREATED:20230116T173307Z
LAST-MODIFIED:20230116T173309Z
UID:10001187-1691254800-1691278200@corningmotorsports.com
SUMMARY:Barona Speedway Regular Schedule
DESCRIPTION:IMCA SPORT MODS\, IMCA STOCK CARS/STREET STOCKS\, DWARFS\, PURE STOCKS\, LIGHTNING SPRINTS\, MINI DWARFS/JUNIOR SPRINTS
URL:https://corningmotorsports.com/event/barona-speedway-regular-schedule-7/
LOCATION:Barona Speedway\, 1754 Wildcat Canyon Rd\, Lakeside\, CA\, 92040\, United States
CATEGORIES:Regular Schedule
ATTACH;FMTTYPE=image/jpeg:https://corningmotorsports.com/wp-content/uploads/2022/03/barona-scaled.jpg
END:VEVENT
BEGIN:VEVENT
DTSTART;TZID=America/Los_Angeles:20230722T170000
DTEND;TZID=America/Los_Angeles:20230722T233000
DTSTAMP:20260420T235044
CREATED:20230117T201724Z
LAST-MODIFIED:20230117T201726Z
UID:10001195-1690045200-1690068600@corningmotorsports.com
SUMMARY:IMCA SUMMER SHOOTOUT @ BARONA
DESCRIPTION:IMCA MODIFIEDS\, IMCA SPORT MODS\, IMCA STOCK CARS/STREET STOCKS\, IMCA SPORT COMPACTS\, IMCA HOBBY STOCKS\, PURE STOCKS\, MINI DWARFS/JUNIOR SPRINTS
URL:https://corningmotorsports.com/event/imca-summer-shootout-barona/2023-07-22/
LOCATION:Barona Speedway\, 1754 Wildcat Canyon Rd\, Lakeside\, CA\, 92040\, United States
CATEGORIES:Practice Night
ATTACH;FMTTYPE=image/jpeg:https://corningmotorsports.com/wp-content/uploads/2022/03/barona-scaled.jpg
END:VEVENT
BEGIN:VEVENT
DTSTART;TZID=America/Los_Angeles:20230721T170000
DTEND;TZID=America/Los_Angeles:20230721T233000
DTSTAMP:20260420T235044
CREATED:20230117T201724Z
LAST-MODIFIED:20230117T201726Z
UID:10001194-1689958800-1689982200@corningmotorsports.com
SUMMARY:IMCA SUMMER SHOOTOUT @ BARONA
DESCRIPTION:IMCA MODIFIEDS\, IMCA SPORT MODS\, IMCA STOCK CARS/STREET STOCKS\, IMCA SPORT COMPACTS\, IMCA HOBBY STOCKS\, PURE STOCKS\, MINI DWARFS/JUNIOR SPRINTS
URL:https://corningmotorsports.com/event/imca-summer-shootout-barona/2023-07-21/
LOCATION:Barona Speedway\, 1754 Wildcat Canyon Rd\, Lakeside\, CA\, 92040\, United States
CATEGORIES:Practice Night
ATTACH;FMTTYPE=image/jpeg:https://corningmotorsports.com/wp-content/uploads/2022/03/barona-scaled.jpg
END:VEVENT
BEGIN:VEVENT
DTSTART;TZID=America/Los_Angeles:20230708T170000
DTEND;TZID=America/Los_Angeles:20230708T233000
DTSTAMP:20260420T235044
CREATED:20230116T173124Z
LAST-MODIFIED:20230116T173127Z
UID:10001186-1688835600-1688859000@corningmotorsports.com
SUMMARY:Barona Speedway Regular Schedule
DESCRIPTION:IMCA MODIFIEDS\, IMCA SPORT COMPACTS\, LIGHTNING SPRINTS\, DWARFS\, PONY STOCKS\, PURE STOCKS\, MINI DWARFS/JUNIOR SPRINTS
URL:https://corningmotorsports.com/event/barona-speedway-regular-schedule-6/
LOCATION:Barona Speedway\, 1754 Wildcat Canyon Rd\, Lakeside\, CA\, 92040\, United States
CATEGORIES:Regular Schedule
ATTACH;FMTTYPE=image/jpeg:https://corningmotorsports.com/wp-content/uploads/2022/03/barona-scaled.jpg
END:VEVENT
BEGIN:VEVENT
DTSTART;TZID=America/Los_Angeles:20230624T170000
DTEND;TZID=America/Los_Angeles:20230624T233000
DTSTAMP:20260420T235044
CREATED:20230116T172931Z
LAST-MODIFIED:20230116T172934Z
UID:10001185-1687626000-1687649400@corningmotorsports.com
SUMMARY:Barona Speedway Regular Schedule
DESCRIPTION:IMCA MODIFIEDS\, IMCA SPORT MODS\, IMCA STOCK CARS/STREET STOCKS\, IMCA HOBBY STOCKS\, DWARFS\, PURE STOCKS\, MINI DWARFS/JUNIOR SPRINTS
URL:https://corningmotorsports.com/event/barona-speedway-regular-schedule-5/
LOCATION:Barona Speedway\, 1754 Wildcat Canyon Rd\, Lakeside\, CA\, 92040\, United States
CATEGORIES:Regular Schedule
ATTACH;FMTTYPE=image/jpeg:https://corningmotorsports.com/wp-content/uploads/2022/03/barona-scaled.jpg
END:VEVENT
BEGIN:VEVENT
DTSTART;TZID=America/Los_Angeles:20230610T170000
DTEND;TZID=America/Los_Angeles:20230610T233000
DTSTAMP:20260420T235044
CREATED:20230116T172126Z
LAST-MODIFIED:20230116T172128Z
UID:10001183-1686416400-1686439800@corningmotorsports.com
SUMMARY:Barona Speedway Regular Schedule
DESCRIPTION:IMCA SPORT MODS\, IMCA SPORT COMPACTS\, LIGHTNING SPRINTS\, PONY STOCKS\, DWARFS\, PURE STOCKS\, MINI DWARFS/JUNIOR SPRINTS
URL:https://corningmotorsports.com/event/barona-speedway-regular-schedule-2/
LOCATION:Barona Speedway\, 1754 Wildcat Canyon Rd\, Lakeside\, CA\, 92040\, United States
CATEGORIES:Regular Schedule
ATTACH;FMTTYPE=image/jpeg:https://corningmotorsports.com/wp-content/uploads/2022/03/barona-scaled.jpg
END:VEVENT
BEGIN:VEVENT
DTSTART;TZID=America/Los_Angeles:20230527T170000
DTEND;TZID=America/Los_Angeles:20230527T233000
DTSTAMP:20260420T235044
CREATED:20230116T172549Z
LAST-MODIFIED:20230116T172551Z
UID:10001184-1685206800-1685230200@corningmotorsports.com
SUMMARY:Barona Speedway Regular Schedule
DESCRIPTION:IMCA MODIFIEDS\, IMCA SPORT COMPACTS\, DWARFS\, PONY STOCKS\, PURE STOCKS\, MINI DWARFS/JUNIOR SPRINTS
URL:https://corningmotorsports.com/event/barona-speedway-regular-schedule-4/
LOCATION:Barona Speedway\, 1754 Wildcat Canyon Rd\, Lakeside\, CA\, 92040\, United States
CATEGORIES:Regular Schedule
ATTACH;FMTTYPE=image/jpeg:https://corningmotorsports.com/wp-content/uploads/2022/03/barona-scaled.jpg
END:VEVENT
BEGIN:VEVENT
DTSTART;TZID=America/Los_Angeles:20230513T170000
DTEND;TZID=America/Los_Angeles:20230513T233000
DTSTAMP:20260420T235044
CREATED:20230116T172322Z
LAST-MODIFIED:20230116T172324Z
UID:10001182-1683997200-1684020600@corningmotorsports.com
SUMMARY:Barona Speedway Regular Schedule
DESCRIPTION:IMCA MODIFIEDS\, IMCA SPORT MODS\, IMCA STOCK CARS/STREET STOCKS\, DWARFS\, PURE STOCKS\, LIGHTNING SPRINTS\, MINI DWARFS/JUNIOR SPRINTS
URL:https://corningmotorsports.com/event/barona-speedway-regular-schedule-3/
LOCATION:Barona Speedway\, 1754 Wildcat Canyon Rd\, Lakeside\, CA\, 92040\, United States
CATEGORIES:Regular Schedule
ATTACH;FMTTYPE=image/jpeg:https://corningmotorsports.com/wp-content/uploads/2022/03/barona-scaled.jpg
END:VEVENT
BEGIN:VEVENT
DTSTART;TZID=America/Los_Angeles:20230429T170000
DTEND;TZID=America/Los_Angeles:20230429T233000
DTSTAMP:20260420T235044
CREATED:20230116T171802Z
LAST-MODIFIED:20230116T172408Z
UID:10001181-1682787600-1682811000@corningmotorsports.com
SUMMARY:Barona Speedway Regular Schedule
DESCRIPTION:IMCA SPORT MODS\, IMCA SPORT COMPACTS\, PONY STOCKS\, DWARFS\, PURE STOCKS\, MINI DWARFS/JUNIOR SPRINTS
URL:https://corningmotorsports.com/event/barona-speedway-regular-schedule/
LOCATION:Barona Speedway\, 1754 Wildcat Canyon Rd\, Lakeside\, CA\, 92040\, United States
CATEGORIES:Regular Schedule
ATTACH;FMTTYPE=image/jpeg:https://corningmotorsports.com/wp-content/uploads/2022/03/barona-scaled.jpg
END:VEVENT
BEGIN:VEVENT
DTSTART;TZID=America/Los_Angeles:20230415T170000
DTEND;TZID=America/Los_Angeles:20230415T230000
DTSTAMP:20260420T235044
CREATED:20230116T170816Z
LAST-MODIFIED:20230116T171040Z
UID:10001179-1681578000-1681599600@corningmotorsports.com
SUMMARY:Gregg Smith Memorial @ Barona Speedway
DESCRIPTION:IMCA MODIFIEDS\, IMCA SPORT MODS\, IMCA SPORT COMPACTS\, IMCA STOCK CARS/STREET STOCKS\, PONY STOCKS\, PURE STOCKS\, MINI DWARFS/JUNIOR SPRINTS
URL:https://corningmotorsports.com/event/gregg-smith-memorial-barona-speedway/
LOCATION:Barona Speedway\, 1754 Wildcat Canyon Rd\, Lakeside\, CA\, 92040\, United States
CATEGORIES:Regular Schedule,Special Event
ATTACH;FMTTYPE=image/jpeg:https://corningmotorsports.com/wp-content/uploads/2022/03/barona-scaled.jpg
END:VEVENT
BEGIN:VEVENT
DTSTART;TZID=America/Los_Angeles:20230401T170000
DTEND;TZID=America/Los_Angeles:20230401T233000
DTSTAMP:20260420T235044
CREATED:20230116T170506Z
LAST-MODIFIED:20230403T201819Z
UID:10001180-1680368400-1680391800@corningmotorsports.com
SUMMARY:**Canceled**  Barona Speedway Opening Night
DESCRIPTION:IMCA MODIFIEDS\, IMCA SPORT MODS\, IMCA STOCK CARS/STREET STOCKS\, DWARFS\, PURE STOCKS\, MINI DWARFS/JUNIOR SPRINTS
URL:https://corningmotorsports.com/event/barona-speedway-opening-night/
LOCATION:Barona Speedway\, 1754 Wildcat Canyon Rd\, Lakeside\, CA\, 92040\, United States
CATEGORIES:Practice Night
ATTACH;FMTTYPE=image/jpeg:https://corningmotorsports.com/wp-content/uploads/2022/03/barona-scaled.jpg
END:VEVENT
END:VCALENDAR