BEGIN:VCALENDAR
VERSION:2.0
PRODID:-//Corning Motorsports - ECPv6.15.13.1//NONSGML v1.0//EN
CALSCALE:GREGORIAN
METHOD:PUBLISH
X-WR-CALNAME:Corning Motorsports
X-ORIGINAL-URL:https://corningmotorsports.com
X-WR-CALDESC:Events for Corning Motorsports
REFRESH-INTERVAL;VALUE=DURATION:PT1H
X-Robots-Tag:noindex
X-PUBLISHED-TTL:PT1H
BEGIN:VTIMEZONE
TZID:America/Denver
BEGIN:DAYLIGHT
TZOFFSETFROM:-0700
TZOFFSETTO:-0600
TZNAME:MDT
DTSTART:20210314T090000
END:DAYLIGHT
BEGIN:STANDARD
TZOFFSETFROM:-0600
TZOFFSETTO:-0700
TZNAME:MST
DTSTART:20211107T080000
END:STANDARD
BEGIN:DAYLIGHT
TZOFFSETFROM:-0700
TZOFFSETTO:-0600
TZNAME:MDT
DTSTART:20220313T090000
END:DAYLIGHT
BEGIN:STANDARD
TZOFFSETFROM:-0600
TZOFFSETTO:-0700
TZNAME:MST
DTSTART:20221106T080000
END:STANDARD
BEGIN:DAYLIGHT
TZOFFSETFROM:-0700
TZOFFSETTO:-0600
TZNAME:MDT
DTSTART:20230312T090000
END:DAYLIGHT
BEGIN:STANDARD
TZOFFSETFROM:-0600
TZOFFSETTO:-0700
TZNAME:MST
DTSTART:20231105T080000
END:STANDARD
BEGIN:DAYLIGHT
TZOFFSETFROM:-0700
TZOFFSETTO:-0600
TZNAME:MDT
DTSTART:20240310T090000
END:DAYLIGHT
BEGIN:STANDARD
TZOFFSETFROM:-0600
TZOFFSETTO:-0700
TZNAME:MST
DTSTART:20241103T080000
END:STANDARD
END:VTIMEZONE
BEGIN:VEVENT
DTSTART;TZID=America/Denver:20230225T180000
DTEND;TZID=America/Denver:20230225T230000
DTSTAMP:20260423T032457
CREATED:20221212T182816Z
LAST-MODIFIED:20221212T182819Z
UID:10001087-1677348000-1677366000@corningmotorsports.com
SUMMARY:CAR Regular Schedule
DESCRIPTION:MODIFIED\, SPORT MODS\, STOCK CARS\, HOBBY STOCKS\, SPORT COMPACTS\, MINI DWARFS
URL:https://corningmotorsports.com/event/car-regular-schedule/
LOCATION:Central Arizona Raceway – CAR\, 512 N Eleven Mile Corner Road\, Casa Grande\, AZ\, 85194\, United States
CATEGORIES:Regular Schedule
ATTACH;FMTTYPE=image/jpeg:https://corningmotorsports.com/wp-content/uploads/2021/02/central-arizona-speedway.jpg
END:VEVENT
BEGIN:VEVENT
DTSTART;TZID=America/Denver:20230218T170000
DTEND;TZID=America/Denver:20230218T230000
DTSTAMP:20260423T032457
CREATED:20221212T182230Z
LAST-MODIFIED:20221212T182248Z
UID:10001086-1676739600-1676761200@corningmotorsports.com
SUMMARY:Dwarf Car Clash @ CAR
DESCRIPTION:DWARF CARS\, LATE MODELS\, PURE STOCKS\, MINI DWARFS \n\n\n\nWatch live on IMCA.TV
URL:https://corningmotorsports.com/event/dwarf-car-clash-car/2023-02-18/
LOCATION:Central Arizona Raceway – CAR\, 512 N Eleven Mile Corner Road\, Casa Grande\, AZ\, 85194\, United States
CATEGORIES:Special Event
ATTACH;FMTTYPE=image/jpeg:https://corningmotorsports.com/wp-content/uploads/2021/02/central-arizona-speedway.jpg
END:VEVENT
BEGIN:VEVENT
DTSTART;TZID=America/Denver:20230217T170000
DTEND;TZID=America/Denver:20230217T230000
DTSTAMP:20260423T032458
CREATED:20221212T182230Z
LAST-MODIFIED:20221212T182248Z
UID:10001085-1676653200-1676674800@corningmotorsports.com
SUMMARY:Dwarf Car Clash @ CAR
DESCRIPTION:DWARF CARS\, LATE MODELS\, PURE STOCKS\, MINI DWARFS \n\n\n\nWatch live on IMCA.TV
URL:https://corningmotorsports.com/event/dwarf-car-clash-car/2023-02-17/
LOCATION:Central Arizona Raceway – CAR\, 512 N Eleven Mile Corner Road\, Casa Grande\, AZ\, 85194\, United States
CATEGORIES:Special Event
ATTACH;FMTTYPE=image/jpeg:https://corningmotorsports.com/wp-content/uploads/2021/02/central-arizona-speedway.jpg
END:VEVENT
BEGIN:VEVENT
DTSTART;TZID=America/Denver:20230128T160000
DTEND;TZID=America/Denver:20230128T233000
DTSTAMP:20260423T032458
CREATED:20221212T181600Z
LAST-MODIFIED:20221213T173653Z
UID:10001126-1674921600-1674948600@corningmotorsports.com
SUMMARY:The Ernie Mincy Early Thaw @ CAR
DESCRIPTION:LATE MODELS: WISSOTA\, SWDRA\, HIGH PLAINS\, OPEN \n\n\n\nRESTRICTED MODS: WISSOTA MODS\, MIDWEST MODS\, USRA LIMITED MODS\, IMCA MODS\, X MODS \n\n\n\nIMCA CLASSES: IMCA SPORT MODS\, IMCA STOCK CARS \n\n\n\nWatch live on SpeedSportTV
URL:https://corningmotorsports.com/event/the-ernie-mincy-early-thaw-car/2023-01-28/
LOCATION:Central Arizona Raceway – CAR\, 512 N Eleven Mile Corner Road\, Casa Grande\, AZ\, 85194\, United States
CATEGORIES:Special Event
ATTACH;FMTTYPE=image/jpeg:https://corningmotorsports.com/wp-content/uploads/2022/12/1.18.23-ernie-mincy-early-thaw.jpg
END:VEVENT
BEGIN:VEVENT
DTSTART;TZID=America/Denver:20230127T160000
DTEND;TZID=America/Denver:20230127T233000
DTSTAMP:20260423T032458
CREATED:20221212T181600Z
LAST-MODIFIED:20221213T173653Z
UID:10001125-1674835200-1674862200@corningmotorsports.com
SUMMARY:The Ernie Mincy Early Thaw @ CAR
DESCRIPTION:LATE MODELS: WISSOTA\, SWDRA\, HIGH PLAINS\, OPEN \n\n\n\nRESTRICTED MODS: WISSOTA MODS\, MIDWEST MODS\, USRA LIMITED MODS\, IMCA MODS\, X MODS \n\n\n\nIMCA CLASSES: IMCA SPORT MODS\, IMCA STOCK CARS \n\n\n\nWatch live on SpeedSportTV
URL:https://corningmotorsports.com/event/the-ernie-mincy-early-thaw-car/2023-01-27/
LOCATION:Central Arizona Raceway – CAR\, 512 N Eleven Mile Corner Road\, Casa Grande\, AZ\, 85194\, United States
CATEGORIES:Special Event
ATTACH;FMTTYPE=image/jpeg:https://corningmotorsports.com/wp-content/uploads/2022/12/1.18.23-ernie-mincy-early-thaw.jpg
END:VEVENT
BEGIN:VEVENT
DTSTART;TZID=America/Denver:20230126T160000
DTEND;TZID=America/Denver:20230126T233000
DTSTAMP:20260423T032458
CREATED:20221212T181600Z
LAST-MODIFIED:20221213T173653Z
UID:10001124-1674748800-1674775800@corningmotorsports.com
SUMMARY:The Ernie Mincy Early Thaw @ CAR
DESCRIPTION:LATE MODELS: WISSOTA\, SWDRA\, HIGH PLAINS\, OPEN \n\n\n\nRESTRICTED MODS: WISSOTA MODS\, MIDWEST MODS\, USRA LIMITED MODS\, IMCA MODS\, X MODS \n\n\n\nIMCA CLASSES: IMCA SPORT MODS\, IMCA STOCK CARS \n\n\n\nWatch live on SpeedSportTV
URL:https://corningmotorsports.com/event/the-ernie-mincy-early-thaw-car/2023-01-26/
LOCATION:Central Arizona Raceway – CAR\, 512 N Eleven Mile Corner Road\, Casa Grande\, AZ\, 85194\, United States
CATEGORIES:Special Event
ATTACH;FMTTYPE=image/jpeg:https://corningmotorsports.com/wp-content/uploads/2022/12/1.18.23-ernie-mincy-early-thaw.jpg
END:VEVENT
BEGIN:VEVENT
DTSTART;TZID=America/Denver:20230122T160000
DTEND;TZID=America/Denver:20230122T233000
DTSTAMP:20260423T032458
CREATED:20221212T181600Z
LAST-MODIFIED:20221213T173653Z
UID:10001123-1674403200-1674430200@corningmotorsports.com
SUMMARY:The Ernie Mincy Early Thaw @ CAR
DESCRIPTION:LATE MODELS: WISSOTA\, SWDRA\, HIGH PLAINS\, OPEN \n\n\n\nRESTRICTED MODS: WISSOTA MODS\, MIDWEST MODS\, USRA LIMITED MODS\, IMCA MODS\, X MODS \n\n\n\nIMCA CLASSES: IMCA SPORT MODS\, IMCA STOCK CARS \n\n\n\nWatch live on SpeedSportTV
URL:https://corningmotorsports.com/event/the-ernie-mincy-early-thaw-car/2023-01-22/
LOCATION:Central Arizona Raceway – CAR\, 512 N Eleven Mile Corner Road\, Casa Grande\, AZ\, 85194\, United States
CATEGORIES:Special Event
ATTACH;FMTTYPE=image/jpeg:https://corningmotorsports.com/wp-content/uploads/2022/12/1.18.23-ernie-mincy-early-thaw.jpg
END:VEVENT
BEGIN:VEVENT
DTSTART;TZID=America/Denver:20230121T160000
DTEND;TZID=America/Denver:20230121T233000
DTSTAMP:20260423T032458
CREATED:20221212T181600Z
LAST-MODIFIED:20221213T173653Z
UID:10001122-1674316800-1674343800@corningmotorsports.com
SUMMARY:The Ernie Mincy Early Thaw @ CAR
DESCRIPTION:LATE MODELS: WISSOTA\, SWDRA\, HIGH PLAINS\, OPEN \n\n\n\nRESTRICTED MODS: WISSOTA MODS\, MIDWEST MODS\, USRA LIMITED MODS\, IMCA MODS\, X MODS \n\n\n\nIMCA CLASSES: IMCA SPORT MODS\, IMCA STOCK CARS \n\n\n\nWatch live on SpeedSportTV
URL:https://corningmotorsports.com/event/the-ernie-mincy-early-thaw-car/2023-01-21/
LOCATION:Central Arizona Raceway – CAR\, 512 N Eleven Mile Corner Road\, Casa Grande\, AZ\, 85194\, United States
CATEGORIES:Special Event
ATTACH;FMTTYPE=image/jpeg:https://corningmotorsports.com/wp-content/uploads/2022/12/1.18.23-ernie-mincy-early-thaw.jpg
END:VEVENT
BEGIN:VEVENT
DTSTART;TZID=America/Denver:20230120T160000
DTEND;TZID=America/Denver:20230120T233000
DTSTAMP:20260423T032458
CREATED:20221212T181600Z
LAST-MODIFIED:20221213T173653Z
UID:10001121-1674230400-1674257400@corningmotorsports.com
SUMMARY:The Ernie Mincy Early Thaw @ CAR
DESCRIPTION:LATE MODELS: WISSOTA\, SWDRA\, HIGH PLAINS\, OPEN \n\n\n\nRESTRICTED MODS: WISSOTA MODS\, MIDWEST MODS\, USRA LIMITED MODS\, IMCA MODS\, X MODS \n\n\n\nIMCA CLASSES: IMCA SPORT MODS\, IMCA STOCK CARS \n\n\n\nWatch live on SpeedSportTV
URL:https://corningmotorsports.com/event/the-ernie-mincy-early-thaw-car/2023-01-20/
LOCATION:Central Arizona Raceway – CAR\, 512 N Eleven Mile Corner Road\, Casa Grande\, AZ\, 85194\, United States
CATEGORIES:Special Event
ATTACH;FMTTYPE=image/jpeg:https://corningmotorsports.com/wp-content/uploads/2022/12/1.18.23-ernie-mincy-early-thaw.jpg
END:VEVENT
BEGIN:VEVENT
DTSTART;TZID=America/Denver:20230119T160000
DTEND;TZID=America/Denver:20230119T233000
DTSTAMP:20260423T032458
CREATED:20221212T181600Z
LAST-MODIFIED:20221213T173653Z
UID:10001120-1674144000-1674171000@corningmotorsports.com
SUMMARY:The Ernie Mincy Early Thaw @ CAR
DESCRIPTION:LATE MODELS: WISSOTA\, SWDRA\, HIGH PLAINS\, OPEN \n\n\n\nRESTRICTED MODS: WISSOTA MODS\, MIDWEST MODS\, USRA LIMITED MODS\, IMCA MODS\, X MODS \n\n\n\nIMCA CLASSES: IMCA SPORT MODS\, IMCA STOCK CARS \n\n\n\nWatch live on SpeedSportTV
URL:https://corningmotorsports.com/event/the-ernie-mincy-early-thaw-car/2023-01-19/
LOCATION:Central Arizona Raceway – CAR\, 512 N Eleven Mile Corner Road\, Casa Grande\, AZ\, 85194\, United States
CATEGORIES:Special Event
ATTACH;FMTTYPE=image/jpeg:https://corningmotorsports.com/wp-content/uploads/2022/12/1.18.23-ernie-mincy-early-thaw.jpg
END:VEVENT
BEGIN:VEVENT
DTSTART;TZID=America/Denver:20230118T180000
DTEND;TZID=America/Denver:20230118T210000
DTSTAMP:20260423T032458
CREATED:20221212T180823Z
LAST-MODIFIED:20221212T180825Z
UID:10001077-1674064800-1674075600@corningmotorsports.com
SUMMARY:The Ernie Mincy Early Thaw @ CAR Practice Night
DESCRIPTION:
URL:https://corningmotorsports.com/event/the-ernie-mincy-early-thaw-car-practice-night/
LOCATION:Central Arizona Raceway – CAR\, 512 N Eleven Mile Corner Road\, Casa Grande\, AZ\, 85194\, United States
CATEGORIES:Practice Night
ATTACH;FMTTYPE=image/jpeg:https://corningmotorsports.com/wp-content/uploads/2022/12/1.18.23-ernie-mincy-early-thaw.jpg
END:VEVENT
BEGIN:VEVENT
DTSTART;TZID=America/Denver:20221120T160000
DTEND;TZID=America/Denver:20221120T230000
DTSTAMP:20260423T032458
CREATED:20211219T194435Z
LAST-MODIFIED:20220920T174847Z
UID:10000817-1668960000-1668985200@corningmotorsports.com
SUMMARY:The Showdown @ Central Arizona Raceway- Night 1
DESCRIPTION:IMCA Modifieds\, IMCA Sport Mods\, IMCA Stock Cars\, IMCA Hobby Stocks
URL:https://corningmotorsports.com/event/9th-annual-desert-thunder-nationals-night-1/2022-11-20/
LOCATION:Central Arizona Raceway – CAR\, 512 N Eleven Mile Corner Road\, Casa Grande\, AZ\, 85194\, United States
CATEGORIES:Special Event
ATTACH;FMTTYPE=image/png:https://corningmotorsports.com/wp-content/uploads/2021/02/central-arizona-speedway.png
END:VEVENT
BEGIN:VEVENT
DTSTART;TZID=America/Denver:20221119T180000
DTEND;TZID=America/Denver:20221119T230000
DTSTAMP:20260423T032458
CREATED:20211219T194435Z
LAST-MODIFIED:20220920T174847Z
UID:10000816-1668880800-1668898800@corningmotorsports.com
SUMMARY:The Showdown @ Central Arizona Raceway- Night 1
DESCRIPTION:IMCA Modifieds\, IMCA Sport Mods\, IMCA Stock Cars\, IMCA Hobby Stocks
URL:https://corningmotorsports.com/event/9th-annual-desert-thunder-nationals-night-1/2022-11-19/
LOCATION:Central Arizona Raceway – CAR\, 512 N Eleven Mile Corner Road\, Casa Grande\, AZ\, 85194\, United States
CATEGORIES:Special Event
ATTACH;FMTTYPE=image/png:https://corningmotorsports.com/wp-content/uploads/2021/02/central-arizona-speedway.png
END:VEVENT
BEGIN:VEVENT
DTSTART;TZID=America/Denver:20221118T180000
DTEND;TZID=America/Denver:20221118T230000
DTSTAMP:20260423T032458
CREATED:20211219T194435Z
LAST-MODIFIED:20220920T174847Z
UID:10000815-1668794400-1668812400@corningmotorsports.com
SUMMARY:The Showdown @ Central Arizona Raceway- Night 1
DESCRIPTION:IMCA Modifieds\, IMCA Sport Mods\, IMCA Stock Cars\, IMCA Hobby Stocks
URL:https://corningmotorsports.com/event/9th-annual-desert-thunder-nationals-night-1/2022-11-18/
LOCATION:Central Arizona Raceway – CAR\, 512 N Eleven Mile Corner Road\, Casa Grande\, AZ\, 85194\, United States
CATEGORIES:Special Event
ATTACH;FMTTYPE=image/png:https://corningmotorsports.com/wp-content/uploads/2021/02/central-arizona-speedway.png
END:VEVENT
END:VCALENDAR