BEGIN:VCALENDAR
VERSION:2.0
PRODID:-//Corning Motorsports - ECPv6.15.13.1//NONSGML v1.0//EN
CALSCALE:GREGORIAN
METHOD:PUBLISH
X-ORIGINAL-URL:https://corningmotorsports.com
X-WR-CALDESC:Events for Corning Motorsports
REFRESH-INTERVAL;VALUE=DURATION:PT1H
X-Robots-Tag:noindex
X-PUBLISHED-TTL:PT1H
BEGIN:VTIMEZONE
TZID:America/Denver
BEGIN:DAYLIGHT
TZOFFSETFROM:-0700
TZOFFSETTO:-0600
TZNAME:MDT
DTSTART:20210314T090000
END:DAYLIGHT
BEGIN:STANDARD
TZOFFSETFROM:-0600
TZOFFSETTO:-0700
TZNAME:MST
DTSTART:20211107T080000
END:STANDARD
BEGIN:DAYLIGHT
TZOFFSETFROM:-0700
TZOFFSETTO:-0600
TZNAME:MDT
DTSTART:20220313T090000
END:DAYLIGHT
BEGIN:STANDARD
TZOFFSETFROM:-0600
TZOFFSETTO:-0700
TZNAME:MST
DTSTART:20221106T080000
END:STANDARD
BEGIN:DAYLIGHT
TZOFFSETFROM:-0700
TZOFFSETTO:-0600
TZNAME:MDT
DTSTART:20230312T090000
END:DAYLIGHT
BEGIN:STANDARD
TZOFFSETFROM:-0600
TZOFFSETTO:-0700
TZNAME:MST
DTSTART:20231105T080000
END:STANDARD
END:VTIMEZONE
BEGIN:VEVENT
DTSTART;TZID=America/Denver:20221119T180000
DTEND;TZID=America/Denver:20221119T230000
DTSTAMP:20260423T045011
CREATED:20211219T194435Z
LAST-MODIFIED:20220920T174847Z
UID:10000816-1668880800-1668898800@corningmotorsports.com
SUMMARY:The Showdown @ Central Arizona Raceway- Night 1
DESCRIPTION:IMCA Modifieds\, IMCA Sport Mods\, IMCA Stock Cars\, IMCA Hobby Stocks
URL:https://corningmotorsports.com/event/9th-annual-desert-thunder-nationals-night-1/2022-11-19/
LOCATION:Central Arizona Raceway – CAR\, 512 N Eleven Mile Corner Road\, Casa Grande\, AZ\, 85194\, United States
CATEGORIES:Special Event
ATTACH;FMTTYPE=image/png:https://corningmotorsports.com/wp-content/uploads/2021/02/central-arizona-speedway.png
END:VEVENT
BEGIN:VEVENT
DTSTART;TZID=America/Denver:20221118T180000
DTEND;TZID=America/Denver:20221118T230000
DTSTAMP:20260423T045011
CREATED:20211219T194435Z
LAST-MODIFIED:20220920T174847Z
UID:10000815-1668794400-1668812400@corningmotorsports.com
SUMMARY:The Showdown @ Central Arizona Raceway- Night 1
DESCRIPTION:IMCA Modifieds\, IMCA Sport Mods\, IMCA Stock Cars\, IMCA Hobby Stocks
URL:https://corningmotorsports.com/event/9th-annual-desert-thunder-nationals-night-1/2022-11-18/
LOCATION:Central Arizona Raceway – CAR\, 512 N Eleven Mile Corner Road\, Casa Grande\, AZ\, 85194\, United States
CATEGORIES:Special Event
ATTACH;FMTTYPE=image/png:https://corningmotorsports.com/wp-content/uploads/2021/02/central-arizona-speedway.png
END:VEVENT
END:VCALENDAR